BEGIN:VCALENDAR
VERSION:2.0
PRODID:-//sharevent//NONSGML v1.0//EN
CALSCALE:GREGORIAN
BEGIN:VEVENT
SUMMARY:CONSULENZA TECNICA SU PRENOTAZIONE- prenota un meeting con un tecnico Master Builders Solutions
DTSTART:20210526T163000Z
DTEND:20210526T173000Z
LOCATION:Stand Master Builders Solutions
UID:08846dde6591d6ecc87199e28aa3407b
DTSTAMP:1776680224
URL;VALUE=URI:https://italia-antisismica-cataniamessina.sharevent.app/it-IT/sessions/23059
END:VEVENT
END:VCALENDAR