BEGIN:VCALENDAR
VERSION:2.0
PRODID:-//sharevent//NONSGML v1.0//EN
CALSCALE:GREGORIAN
BEGIN:VEVENT
SUMMARY:CONSULENZA TECNICA SU PRENOTAZIONE- prenota un meeting con un tecnico Tecnostrutture
DTSTART:20210526T163000Z
DTEND:20210526T173000Z
LOCATION:Stand TECNOSTRUTTURE
UID:12f9bf74a150c5c6aaee11d99eed0488
DTSTAMP:1776685613
URL;VALUE=URI:https://italia-antisismica-cataniamessina.sharevent.app/it-IT/sessions/23060
END:VEVENT
END:VCALENDAR