BEGIN:VCALENDAR
VERSION:2.0
PRODID:-//sharevent//NONSGML v1.0//EN
CALSCALE:GREGORIAN
BEGIN:VEVENT
SUMMARY:CONSULENZA TECNICA SU PRENOTAZIONE- prenota un meeting con un tecnico Ytong
DTSTART:20210526T163000Z
DTEND:20210526T173000Z
LOCATION:STAND Xella Italia - Ytong
UID:2cd1b8d09c6e1cfd1fe3826573a05352
DTSTAMP:1776685613
URL;VALUE=URI:https://italia-antisismica-cataniamessina.sharevent.app/it-IT/sessions/23061
END:VEVENT
END:VCALENDAR