BEGIN:VCALENDAR
VERSION:2.0
PRODID:-//sharevent//NONSGML v1.0//EN
CALSCALE:GREGORIAN
BEGIN:VEVENT
SUMMARY:ITALIA ANTISISMICA- INCENTIVI 110% DIMENSIONI DEL MERCATO CATANESE E MESSINESE- ABACO DELLE TECNOLOGIE DISPONIBILI
DTSTART:20210526T123000Z
DTEND:20210526T162000Z
LOCATION:Catania
UID:2bb2ab860720b92a368af9b92248c3d6
DTSTAMP:1776685883
URL;VALUE=URI:https://italia-antisismica-cataniamessina.sharevent.app/it-IT/sessions/22813
END:VEVENT
END:VCALENDAR