BEGIN:VCALENDAR
VERSION:2.0
PRODID:-//sharevent//NONSGML v1.0//EN
CALSCALE:GREGORIAN
BEGIN:VEVENT
SUMMARY:CONSULENZA TECNICA LIBERA- Parla con un Tecnico MAPEI
DTSTART:20210526T120000Z
DTEND:20210526T123000Z
LOCATION:Stand MAPEI
UID:a1948db58374e4b6c1d621194a9adfd0
DTSTAMP:1776680230
URL;VALUE=URI:https://italia-antisismica-cataniamessina.sharevent.app/it-IT/sessions/23021
END:VEVENT
END:VCALENDAR