BEGIN:VCALENDAR
VERSION:2.0
PRODID:-//sharevent//NONSGML v1.0//EN
CALSCALE:GREGORIAN
BEGIN:VEVENT
SUMMARY:CONSULENZA TECNICA LIBERA- Parla con un Tecnico Master Builders Solutions
DTSTART:20210526T120000Z
DTEND:20210526T123000Z
LOCATION:Stand Master Builders Solutions
UID:55516c9d09e31c89210e569a528f8e41
DTSTAMP:1776685883
URL;VALUE=URI:https://italia-antisismica-cataniamessina.sharevent.app/it-IT/sessions/23023
END:VEVENT
END:VCALENDAR