BEGIN:VCALENDAR
VERSION:2.0
PRODID:-//sharevent//NONSGML v1.0//EN
CALSCALE:GREGORIAN
BEGIN:VEVENT
SUMMARY:CONSULENZA TECNICA LIBERA- Parla con un Tecnico TECNOSTRUTTURE
DTSTART:20210526T120000Z
DTEND:20210526T123000Z
LOCATION:Stand TECNOSTRUTTURE
UID:36f6aa19b69033d974a1900a8ed37530
DTSTAMP:1776680306
URL;VALUE=URI:https://italia-antisismica-cataniamessina.sharevent.app/it-IT/sessions/23024
END:VEVENT
END:VCALENDAR