BEGIN:VCALENDAR
VERSION:2.0
PRODID:-//sharevent//NONSGML v1.0//EN
CALSCALE:GREGORIAN
BEGIN:VEVENT
SUMMARY:CONSULENZA TECNICA LIBERA- Parla con un Tecnico Ytong
DTSTART:20210526T120000Z
DTEND:20210526T123000Z
LOCATION:STAND Xella Italia - Ytong
UID:d43ce6ffabaf2391c14e545ec97d23d6
DTSTAMP:1776685890
URL;VALUE=URI:https://italia-antisismica-cataniamessina.sharevent.app/it-IT/sessions/23025
END:VEVENT
END:VCALENDAR