BEGIN:VCALENDAR
VERSION:2.0
PRODID:-//sharevent//NONSGML v1.0//EN
CALSCALE:GREGORIAN
BEGIN:VEVENT
SUMMARY:CONSULENZA TECNICA LIBERA- Parla con un Consulente Harley&amp;Dikkinson
DTSTART:20210526T120000Z
DTEND:20210526T123000Z
LOCATION:Stand HARLEY&amp;DIKKINSON
UID:bf106b909ebeb97e60e1db6ec963f514
DTSTAMP:1776680319
URL;VALUE=URI:https://italia-antisismica-cataniamessina.sharevent.app/it-IT/sessions/23026
END:VEVENT
END:VCALENDAR