BEGIN:VCALENDAR
VERSION:2.0
PRODID:-//sharevent//NONSGML v1.0//EN
CALSCALE:GREGORIAN
BEGIN:VEVENT
SUMMARY:CONSULENZA TECNICA SU PRENOTAZIONE- prenota un meeting con un consulente Eni gas e luce
DTSTART:20210526T163000Z
DTEND:20210526T173000Z
LOCATION:Stand ENI Gas e Luce
UID:e29d62868bf64dfdf417ea8f4a123dbb
DTSTAMP:1776680379
URL;VALUE=URI:https://italia-antisismica-cataniamessina.sharevent.app/it-IT/sessions/23058
END:VEVENT
END:VCALENDAR